BEGIN:VCALENDAR
VERSION:2.0
CALSCALE:GREGORIAN
PRODID:-//Diputació de Barcelona//DibaCMS//EN
BEGIN:VEVENT
UID:27241
DTSTAMP:20260421T020258
DTSTART:20241220T200000
DTEND:20241220T200000
SUMMARY:Nadal 24/25. Escola de castells 
LOCATION:Local d’assaig dels Escaldats (c. General Padrós, 35) 
METHOD:PUBLISH
X-WR-CALNAME:caldesm@caldesdemontbui.cat
X-WR-TIMEZONE:Europe/Madrid
DESCRIPTION:
URI:https://www.caldesdemontbui.cat/actualitat/agenda/nadal-2425-escola-de-castells-.html
CLASS:PUBLIC
END:VEVENT
END:VCALENDAR
