BEGIN:VCALENDAR
VERSION:2.0
CALSCALE:GREGORIAN
PRODID:-//Diputació de Barcelona//DibaCMS//EN
BEGIN:VEVENT
UID:27232
DTSTAMP:20260421T005100
DTSTART:20241215T123000
DTEND:20241215T123000
SUMMARY:Nadal 24/25. Pilar de la Marató
LOCATION:Plaça de la Font del Lleó 
METHOD:PUBLISH
X-WR-CALNAME:caldesm@caldesdemontbui.cat
X-WR-TIMEZONE:Europe/Madrid
DESCRIPTION:
URI:https://www.caldesdemontbui.cat/actualitat/agenda/nadal-2425-pilar-de-la-marato.html
CLASS:PUBLIC
END:VEVENT
END:VCALENDAR
