BEGIN:VCALENDAR
VERSION:2.0
CALSCALE:GREGORIAN
PRODID:-//Diputació de Barcelona//DibaCMS//EN
BEGIN:VEVENT
UID:27230
DTSTAMP:20260421T035824
DTSTART:20241214T213000
DTEND:20241214T213000
SUMMARY:Nadal 24/25. Quinto Escaldat i sorteig de paneres. Solidaris amb La Marató de TV3 
LOCATION:Local d’assaig dels Escaldats (c. General Padrós, 35) 
METHOD:PUBLISH
X-WR-CALNAME:caldesm@caldesdemontbui.cat
X-WR-TIMEZONE:Europe/Madrid
DESCRIPTION:
URI:https://www.caldesdemontbui.cat/actualitat/agenda/nadal-2425-quinto-escaldat-i-sorteig-de-paneres-solidaris-amb-la-marato-de-tv3-.html
CLASS:PUBLIC
END:VEVENT
END:VCALENDAR
