BEGIN:VCALENDAR
VERSION:2.0
CALSCALE:GREGORIAN
PRODID:-//Diputació de Barcelona//DibaCMS//EN
BEGIN:VEVENT
UID:27229
DTSTAMP:20260421T010007
DTSTART:20241214T200000
DTEND:20241214T200000
SUMMARY:Nadal 24/25. Nit de ‘bojus’: Ronda de Comèdia amb Godai Garcia, Irene Minovas, Andrea Farina i Andrés Fajngold
LOCATION:Casino de Caldes 
METHOD:PUBLISH
X-WR-CALNAME:caldesm@caldesdemontbui.cat
X-WR-TIMEZONE:Europe/Madrid
DESCRIPTION:
URI:https://www.caldesdemontbui.cat/actualitat/agenda/nadal-2425-nit-de-bojus-ronda-de-comedia-amb-godai-garcia-irene-minovas-andrea-farina-i-andres-fajngold.html
CLASS:PUBLIC
END:VEVENT
END:VCALENDAR
