BEGIN:VCALENDAR
VERSION:2.0
CALSCALE:GREGORIAN
PRODID:-//Diputació de Barcelona//DibaCMS//EN
BEGIN:VEVENT
UID:27225
DTSTAMP:20260421T004434
DTSTART:20241213T200000
DTEND:20241213T200000
SUMMARY:Nadal 24/25. Escola de Castells
LOCATION:C/ Garraf 13 08140 Caldes de Montbui
METHOD:PUBLISH
X-WR-CALNAME:caldesm@caldesdemontbui.cat
X-WR-TIMEZONE:Europe/Madrid
DESCRIPTION:
URI:https://www.caldesdemontbui.cat/actualitat/agenda/nadal-2425-escola-de-castells.html
CLASS:PUBLIC
END:VEVENT
END:VCALENDAR
