BEGIN:VCALENDAR
VERSION:2.0
CALSCALE:GREGORIAN
PRODID:-//Diputació de Barcelona//DibaCMS//EN
BEGIN:VEVENT
UID:27224
DTSTAMP:20260421T053408
DTSTART:20241213T190000
DTEND:20241213T190000
SUMMARY:Nadal 24/25. Teatre "Fes-ho per tu"
LOCATION:C. de Font i Boet 7 8140 Caldes de Montbui
METHOD:PUBLISH
X-WR-CALNAME:caldesm@caldesdemontbui.cat
X-WR-TIMEZONE:Europe/Madrid
DESCRIPTION:
URI:https://www.caldesdemontbui.cat/actualitat/agenda/nadal-2425-teatre-fes-ho-per-tu.html
CLASS:PUBLIC
END:VEVENT
END:VCALENDAR
