BEGIN:VCALENDAR
VERSION:2.0
CALSCALE:GREGORIAN
PRODID:-//Diputació de Barcelona//DibaCMS//EN
BEGIN:VEVENT
UID:27223
DTSTAMP:20260421T010047
DTSTART:20241212T183000
DTEND:20241212T183000
SUMMARY:Nadal 24/25. Sessió divulgativa de la Fundació La Marató de TV3, sobre malalties respiratòries
LOCATION:Santa Teresa, 3-5 08140 Caldes de Montbui
METHOD:PUBLISH
X-WR-CALNAME:caldesm@caldesdemontbui.cat
X-WR-TIMEZONE:Europe/Madrid
DESCRIPTION:
URI:https://www.caldesdemontbui.cat/actualitat/agenda/nadal-2425-sessio-divulgativa-de-la-fundacio-la-marato-de-tv3-sobre-malalties-respiratories.html
CLASS:PUBLIC
END:VEVENT
END:VCALENDAR
