BEGIN:VCALENDAR
VERSION:2.0
CALSCALE:GREGORIAN
PRODID:-//Diputació de Barcelona//DibaCMS//EN
BEGIN:VEVENT
UID:27222
DTSTAMP:20260421T094921
DTSTART:20241210T183000
DTEND:20241210T183000
SUMMARY:Nadal 24/25. El documental del mes: "Un Nadal per a tothom"
LOCATION:Santa Teresa, 3-5 08140 Caldes de Montbui
METHOD:PUBLISH
X-WR-CALNAME:caldesm@caldesdemontbui.cat
X-WR-TIMEZONE:Europe/Madrid
DESCRIPTION:
URI:https://www.caldesdemontbui.cat/actualitat/agenda/nadal-2425-el-documental-del-mes-un-nadal-per-a-tothom.html
CLASS:PUBLIC
END:VEVENT
END:VCALENDAR
