BEGIN:VCALENDAR
VERSION:2.0
CALSCALE:GREGORIAN
PRODID:-//Diputació de Barcelona//DibaCMS//EN
BEGIN:VEVENT
UID:27213
DTSTAMP:20260421T062822
DTSTART:20241207T090000
DTEND:20241207T200000
SUMMARY:Nadal 24/25. Paradeta de Fira de Nadal dels Escaldats
LOCATION:Centre Històric 
METHOD:PUBLISH
X-WR-CALNAME:caldesm@caldesdemontbui.cat
X-WR-TIMEZONE:Europe/Madrid
DESCRIPTION:
URI:https://www.caldesdemontbui.cat/actualitat/agenda/nadal-2425-paradeta-de-fira-de-nadal-dels-escaldats.html
CLASS:PUBLIC
END:VEVENT
END:VCALENDAR
