BEGIN:VCALENDAR
VERSION:2.0
CALSCALE:GREGORIAN
PRODID:-//Diputació de Barcelona//DibaCMS//EN
BEGIN:VEVENT
UID:27208
DTSTAMP:20260421T053303
DTSTART:20241130T193000
DTEND:20241130T210000
SUMMARY:Nadal 24/25. Curs de Nadal 2024
LOCATION:
METHOD:PUBLISH
X-WR-CALNAME:caldesm@caldesdemontbui.cat
X-WR-TIMEZONE:Europe/Madrid
DESCRIPTION:
URI:https://www.caldesdemontbui.cat/actualitat/agenda/nadal-2425-curs-de-nadal-2024.html
CLASS:PUBLIC
END:VEVENT
END:VCALENDAR
