BEGIN:VCALENDAR
VERSION:2.0
CALSCALE:GREGORIAN
PRODID:-//Diputació de Barcelona//DibaCMS//EN
BEGIN:VEVENT
UID:27203
DTSTAMP:20260421T123054
DTSTART:20241202T110000
DTEND:20241212T210000
SUMMARY:Nadal 24/25. Exposició "Omple el buit" de Laia Ponsa
LOCATION: Corredossos de Baix, 9-11 (antic 1) 8140 Caldes de Montbui
METHOD:PUBLISH
X-WR-CALNAME:caldesm@caldesdemontbui.cat
X-WR-TIMEZONE:Europe/Madrid
DESCRIPTION:
URI:https://www.caldesdemontbui.cat/actualitat/agenda/nadal-2425-exposicio-omple-el-buit-de-laia-ponsa.html
CLASS:PUBLIC
END:VEVENT
END:VCALENDAR
