BEGIN:VCALENDAR
VERSION:2.0
CALSCALE:GREGORIAN
PRODID:-//Diputació de Barcelona//DibaCMS//EN
BEGIN:VEVENT
UID:27202
DTSTAMP:20260420T214356
DTSTART:20241218T183000
DTEND:20241218T183000
SUMMARY:Concert del Trio de jazz Kaleidoscope
LOCATION:Buenos Aires, 16 08140 Caldes de Montbui
METHOD:PUBLISH
X-WR-CALNAME:caldesm@caldesdemontbui.cat
X-WR-TIMEZONE:Europe/Madrid
DESCRIPTION:
URI:https://www.caldesdemontbui.cat/actualitat/agenda/concert-del-trio-de-jazz-kaleidoscope.html
CLASS:PUBLIC
END:VEVENT
END:VCALENDAR
