BEGIN:VCALENDAR
VERSION:2.0
CALSCALE:GREGORIAN
PRODID:-//Diputació de Barcelona//DibaCMS//EN
BEGIN:VEVENT
UID:27147
DTSTAMP:20260421T082146
DTSTART:20241124T193000
DTEND:20241124T193000
SUMMARY:Concert a càrrec de Pi McCarthy
LOCATION:Corredossos de Baix, 9-11 08140 Caldes de Montbui
METHOD:PUBLISH
X-WR-CALNAME:caldesm@caldesdemontbui.cat
X-WR-TIMEZONE:Europe/Madrid
DESCRIPTION:
URI:https://www.caldesdemontbui.cat/actualitat/agenda/concert-a-carrec-de-pi-mccarthy.html
CLASS:PUBLIC
END:VEVENT
END:VCALENDAR
