BEGIN:VCALENDAR
VERSION:2.0
CALSCALE:GREGORIAN
PRODID:-//Diputació de Barcelona//DibaCMS//EN
BEGIN:VEVENT
UID:27116
DTSTAMP:20260421T093554
DTSTART:20241114T200000
DTEND:20241201T140000
SUMMARY:Exposició "Alliberament dels sentits" de Miquel A. Mercader del 14 de novembre a l’1 de desembre, a la Sala Delger
LOCATION:Carrer del Forn, 8bis 08140 Caldes de Montbui
METHOD:PUBLISH
X-WR-CALNAME:caldesm@caldesdemontbui.cat
X-WR-TIMEZONE:Europe/Madrid
DESCRIPTION:
URI:https://www.caldesdemontbui.cat/actualitat/agenda/exposicio-alliberament-dels-sentits-de-miquel-a-mercader-del-14-de-novembre-a-l1-de-desembre-a-la-sala-delger.html
CLASS:PUBLIC
END:VEVENT
END:VCALENDAR
