BEGIN:VCALENDAR
VERSION:2.0
CALSCALE:GREGORIAN
PRODID:-//Diputació de Barcelona//DibaCMS//EN
BEGIN:VEVENT
UID:27080
DTSTAMP:20260421T004404
DTSTART:20241031T180000
DTEND:20241031T220000
SUMMARY:Taller “Dones africanes, visibles i feministes”
LOCATION:Santa Teresa, 3-5 08140 Caldes de Montbui
METHOD:PUBLISH
X-WR-CALNAME:caldesm@caldesdemontbui.cat
X-WR-TIMEZONE:Europe/Madrid
DESCRIPTION:
URI:https://www.caldesdemontbui.cat//continguts//27080-taller-dones-africanes-visibles-i-feministes.html
CLASS:PUBLIC
END:VEVENT
END:VCALENDAR
