BEGIN:VCALENDAR
VERSION:2.0
CALSCALE:GREGORIAN
PRODID:-//Diputació de Barcelona//DibaCMS//EN
BEGIN:VEVENT
UID:27064
DTSTAMP:20260421T061556
DTSTART:20241030T170000
DTEND:20241030T200000
SUMMARY:Toc Terrorífic 
LOCATION:C. de Font i Boet, 4 08140 Caldes de Montbui
METHOD:PUBLISH
X-WR-CALNAME:caldesm@caldesdemontbui.cat
X-WR-TIMEZONE:Europe/Madrid
DESCRIPTION:
URI:https://www.caldesdemontbui.cat/actualitat/agenda/toc-terrorific-.html
CLASS:PUBLIC
END:VEVENT
END:VCALENDAR
