BEGIN:VCALENDAR
VERSION:2.0
CALSCALE:GREGORIAN
PRODID:-//Diputació de Barcelona//DibaCMS//EN
BEGIN:VEVENT
UID:27051
DTSTAMP:20260421T154057
DTSTART:20241114T190000
DTEND:20241114T190000
SUMMARY:Dones en acció "4 dones 4 projectes"
LOCATION: Corredossos de Baix, 9-11 (antic 1) 8140 Caldes de Montbui
METHOD:PUBLISH
X-WR-CALNAME:caldesm@caldesdemontbui.cat
X-WR-TIMEZONE:Europe/Madrid
DESCRIPTION:
URI:https://www.caldesdemontbui.cat/actualitat/agenda/27051-dones-en-accio-4-dones-4-projectes.html
CLASS:PUBLIC
END:VEVENT
END:VCALENDAR
