BEGIN:VCALENDAR
VERSION:2.0
CALSCALE:GREGORIAN
PRODID:-//Diputació de Barcelona//DibaCMS//EN
BEGIN:VEVENT
UID:27035
DTSTAMP:20260421T063523
DTSTART:20241029T183000
DTEND:20241029T183000
SUMMARY:El Documental del mes d'octubre de la Biblioteca de Caldes de Montbui és “El que em queda de tu”
LOCATION:Santa Teresa, 3-5 08140 Caldes de Montbui
METHOD:PUBLISH
X-WR-CALNAME:caldesm@caldesdemontbui.cat
X-WR-TIMEZONE:Europe/Madrid
DESCRIPTION:
URI:https://www.caldesdemontbui.cat/actualitat/agenda/el-documental-del-mes-doctubre-de-la-biblioteca-de-caldes-de-montbui-es-el-que-em-queda-de-tu.html
CLASS:PUBLIC
END:VEVENT
END:VCALENDAR
