BEGIN:VCALENDAR
VERSION:2.0
CALSCALE:GREGORIAN
PRODID:-//Diputació de Barcelona//DibaCMS//EN
BEGIN:VEVENT
UID:27023
DTSTAMP:20260421T115128
DTSTART:20241120T190000
DTEND:20241120T190000
SUMMARY:Xerrada "Els inuit. Caçadors del Gran Nord"
LOCATION:Carrer del Pont, 3 08140 Caldes de Montbui
METHOD:PUBLISH
X-WR-CALNAME:caldesm@caldesdemontbui.cat
X-WR-TIMEZONE:Europe/Madrid
DESCRIPTION:
URI:https://www.caldesdemontbui.cat/actualitat/agenda/xerrada-els-inuit-cacadors-del-gran-nord.html
CLASS:PUBLIC
END:VEVENT
END:VCALENDAR
