BEGIN:VCALENDAR
VERSION:2.0
CALSCALE:GREGORIAN
PRODID:-//Diputació de Barcelona//DibaCMS//EN
BEGIN:VEVENT
UID:27004
DTSTAMP:20260421T021511
DTSTART:20241020T100000
DTEND:20241020T140000
SUMMARY:Fira d’antiquaris i brocanters del mes d’octubre
LOCATION:
METHOD:PUBLISH
X-WR-CALNAME:caldesm@caldesdemontbui.cat
X-WR-TIMEZONE:Europe/Madrid
DESCRIPTION:
URI:https://www.caldesdemontbui.cat/actualitat/agenda/27004-fira-dantiquaris-i-brocanters-del-mes-doctubre.html
CLASS:PUBLIC
END:VEVENT
END:VCALENDAR
