BEGIN:VCALENDAR
VERSION:2.0
CALSCALE:GREGORIAN
PRODID:-//Diputació de Barcelona//DibaCMS//EN
BEGIN:VEVENT
UID:26986
DTSTAMP:20260421T082110
DTSTART:20241012T180000
DTEND:20241012T180000
SUMMARY:Ball del dia del soci
LOCATION:C. Mestre Gregori Montserrat, 4 08140 Caldes de Montbui
METHOD:PUBLISH
X-WR-CALNAME:caldesm@caldesdemontbui.cat
X-WR-TIMEZONE:Europe/Madrid
DESCRIPTION:
URI:https://www.caldesdemontbui.cat/actualitat/agenda/ball-del-dia-del-soci.html
CLASS:PUBLIC
END:VEVENT
END:VCALENDAR
