BEGIN:VCALENDAR
VERSION:2.0
CALSCALE:GREGORIAN
PRODID:-//Diputació de Barcelona//DibaCMS//EN
BEGIN:VEVENT
UID:26970
DTSTAMP:20260421T064829
DTSTART:20241019T080000
DTEND:20241019T235900
SUMMARY:Festa Major 2024
LOCATION:
METHOD:PUBLISH
X-WR-CALNAME:caldesm@caldesdemontbui.cat
X-WR-TIMEZONE:Europe/Madrid
DESCRIPTION:
URI:https://www.caldesdemontbui.cat/actualitat/agenda/26970-festa-major-2024.html
CLASS:PUBLIC
END:VEVENT
END:VCALENDAR
