BEGIN:VCALENDAR
VERSION:2.0
CALSCALE:GREGORIAN
PRODID:-//Diputació de Barcelona//DibaCMS//EN
BEGIN:VEVENT
UID:26969
DTSTAMP:20260421T113818
DTSTART:20241018T113000
DTEND:20241018T235900
SUMMARY:Festa Major 2024
LOCATION:
METHOD:PUBLISH
X-WR-CALNAME:caldesm@caldesdemontbui.cat
X-WR-TIMEZONE:Europe/Madrid
DESCRIPTION:
URI:https://www.caldesdemontbui.cat/actualitat/agenda/26969-festa-major-2024.html
CLASS:PUBLIC
END:VEVENT
END:VCALENDAR
