BEGIN:VCALENDAR
VERSION:2.0
CALSCALE:GREGORIAN
PRODID:-//Diputació de Barcelona//DibaCMS//EN
BEGIN:VEVENT
UID:26937
DTSTAMP:20260421T061657
DTSTART:20241001T190000
DTEND:20241203T190000
SUMMARY:Curs "Introducció a la programació"
LOCATION:Josep Germà, 2 08140 Caldes de Montbui
METHOD:PUBLISH
X-WR-CALNAME:caldesm@caldesdemontbui.cat
X-WR-TIMEZONE:Europe/Madrid
DESCRIPTION:
URI:https://www.caldesdemontbui.cat/actualitat/agenda/curs-introduccio-a-la-programacio.html
CLASS:PUBLIC
END:VEVENT
END:VCALENDAR
