BEGIN:VCALENDAR
VERSION:2.0
CALSCALE:GREGORIAN
PRODID:-//Diputació de Barcelona//DibaCMS//EN
BEGIN:VEVENT
UID:26936
DTSTAMP:20260421T034715
DTSTART:20241003T193000
DTEND:20241016T210000
SUMMARY:Exposició "L'ànima de la fruita" de Marién Moreno
LOCATION: Corredossos de Baix, 9-11 (antic 1) 8140 Caldes de Montbui
METHOD:PUBLISH
X-WR-CALNAME:caldesm@caldesdemontbui.cat
X-WR-TIMEZONE:Europe/Madrid
DESCRIPTION:
URI:https://www.caldesdemontbui.cat/actualitat/agenda/exposicio-lanima-de-la-fruita-de-marien-moreno.html
CLASS:PUBLIC
END:VEVENT
END:VCALENDAR
