BEGIN:VCALENDAR
VERSION:2.0
CALSCALE:GREGORIAN
PRODID:-//Diputació de Barcelona//DibaCMS//EN
BEGIN:VEVENT
UID:26918
DTSTAMP:20260421T034106
DTSTART:20240929T100000
DTEND:20240929T140000
SUMMARY:Participa en la gimcana “Aventura’t amb la mobilitat sostenible”
LOCATION:
METHOD:PUBLISH
X-WR-CALNAME:caldesm@caldesdemontbui.cat
X-WR-TIMEZONE:Europe/Madrid
DESCRIPTION:
URI:https://www.caldesdemontbui.cat/actualitat/agenda/participa-en-la-gimcana-aventurat-amb-la-mobilitat-sostenible.html
CLASS:PUBLIC
END:VEVENT
END:VCALENDAR
