BEGIN:VCALENDAR
VERSION:2.0
CALSCALE:GREGORIAN
PRODID:-//Diputació de Barcelona//DibaCMS//EN
BEGIN:VEVENT
UID:26914
DTSTAMP:20260421T033511
DTSTART:20241003T200000
DTEND:20241003T200000
SUMMARY:Xerrada "La Caixa de la Solidaritat. I ara què?" a càrrec de Pep Cruanyes
LOCATION:Carrer del Pont, 3 08140 Caldes de Montbui
METHOD:PUBLISH
X-WR-CALNAME:caldesm@caldesdemontbui.cat
X-WR-TIMEZONE:Europe/Madrid
DESCRIPTION:
URI:https://www.caldesdemontbui.cat/actualitat/agenda/xerrada-la-caixa-de-la-solidaritat-i-ara-que-a-carrec-de-pep-cruanyes.html
CLASS:PUBLIC
END:VEVENT
END:VCALENDAR
