BEGIN:VCALENDAR
VERSION:2.0
CALSCALE:GREGORIAN
PRODID:-//Diputació de Barcelona//DibaCMS//EN
BEGIN:VEVENT
UID:26909
DTSTAMP:20260421T110421
DTSTART:20241008T183000
DTEND:20241008T183000
SUMMARY:Xerrada "Beneficis de la pràctica del Mindfulness aplicable als perfils TDAH"
LOCATION:C. de Font i Boet 7 8140 Caldes de Montbui
METHOD:PUBLISH
X-WR-CALNAME:caldesm@caldesdemontbui.cat
X-WR-TIMEZONE:Europe/Madrid
DESCRIPTION:
URI:https://www.caldesdemontbui.cat/actualitat/agenda/xerrada-beneficis-de-la-practica-del-mindfulness-aplicable-als-perfils-tdah.html
CLASS:PUBLIC
END:VEVENT
END:VCALENDAR
