BEGIN:VCALENDAR
VERSION:2.0
CALSCALE:GREGORIAN
PRODID:-//Diputació de Barcelona//DibaCMS//EN
BEGIN:VEVENT
UID:26905
DTSTAMP:20260421T075314
DTSTART:20241005T180000
DTEND:20241005T180000
SUMMARY:Acte dins de l’any commemoratiu dels 200 anys del naixement de Josep Anselm Clavé i Camps.
LOCATION: Corredossos de Baix, 9-11 (antic 1) 8140 Caldes de Montbui
METHOD:PUBLISH
X-WR-CALNAME:caldesm@caldesdemontbui.cat
X-WR-TIMEZONE:Europe/Madrid
DESCRIPTION:
URI:https://www.caldesdemontbui.cat/actualitat/agenda/acte-dins-de-lany-commemoratiu-dels-200-anys-del-naixement-de-josep-anselm-clave-i-camps.html
CLASS:PUBLIC
END:VEVENT
END:VCALENDAR
