BEGIN:VCALENDAR
VERSION:2.0
CALSCALE:GREGORIAN
PRODID:-//Diputació de Barcelona//DibaCMS//EN
BEGIN:VEVENT
UID:26868
DTSTAMP:20260421T125934
DTSTART:20240911T110000
DTEND:20240911T110000
SUMMARY:Acte institucional de la Diada Nacional de Catalunya
LOCATION:plaça de l’Onze de setembre 
METHOD:PUBLISH
X-WR-CALNAME:caldesm@caldesdemontbui.cat
X-WR-TIMEZONE:Europe/Madrid
DESCRIPTION:
URI:https://www.caldesdemontbui.cat/actualitat/agenda/acte-institucional-de-la-diada-nacional-de-catalunya.html
CLASS:PUBLIC
END:VEVENT
END:VCALENDAR
