BEGIN:VCALENDAR
VERSION:2.0
CALSCALE:GREGORIAN
PRODID:-//Diputació de Barcelona//DibaCMS//EN
BEGIN:VEVENT
UID:26867
DTSTAMP:20260421T151325
DTSTART:20240910T210000
DTEND:20240910T210000
SUMMARY:Marxa de torxes per la independència  
LOCATION:Inici des de pl. Catalunya. 
METHOD:PUBLISH
X-WR-CALNAME:caldesm@caldesdemontbui.cat
X-WR-TIMEZONE:Europe/Madrid
DESCRIPTION:
URI:https://www.caldesdemontbui.cat/actualitat/agenda/26867-marxa-de-torxes-per-la-independencia-.html
CLASS:PUBLIC
END:VEVENT
END:VCALENDAR
