BEGIN:VCALENDAR
VERSION:2.0
CALSCALE:GREGORIAN
PRODID:-//Diputació de Barcelona//DibaCMS//EN
BEGIN:VEVENT
UID:26849
DTSTAMP:20260421T152841
DTSTART:20240906T100000
DTEND:20240922T140000
SUMMARY:Exposició Sala Delger · ‘Dones, el nostre interior’ de Pamela Lozano
LOCATION:Carrer del Forn, 8bis 08140 Caldes de Montbui
METHOD:PUBLISH
X-WR-CALNAME:caldesm@caldesdemontbui.cat
X-WR-TIMEZONE:Europe/Madrid
DESCRIPTION:
URI:https://www.caldesdemontbui.cat/actualitat/agenda/exposicio-dones-el-nostre-interior.html
CLASS:PUBLIC
END:VEVENT
END:VCALENDAR
