BEGIN:VCALENDAR
VERSION:2.0
CALSCALE:GREGORIAN
PRODID:-//Diputació de Barcelona//DibaCMS//EN
BEGIN:VEVENT
UID:26781
DTSTAMP:20260422T013159
DTSTART:20240714T100000
DTEND:20240714T130000
SUMMARY:Mulla't per l'esclerosi múltiple
LOCATION:Complex Esportiu les Cremades 08140 Caldes de Montbui
METHOD:PUBLISH
X-WR-CALNAME:caldesm@caldesdemontbui.cat
X-WR-TIMEZONE:Europe/Madrid
DESCRIPTION:
URI:https://www.caldesdemontbui.cat/actualitat/agenda/mullat-per-lesclerosi-multiple.html
CLASS:PUBLIC
END:VEVENT
END:VCALENDAR
