BEGIN:VCALENDAR
VERSION:2.0
CALSCALE:GREGORIAN
PRODID:-//Diputació de Barcelona//DibaCMS//EN
BEGIN:VEVENT
UID:26774
DTSTAMP:20260421T205801
DTSTART:20240906T200000
DTEND:20240908T233000
SUMMARY:Festa de Barri dels Saulons
LOCATION:Barri del Saulons 
METHOD:PUBLISH
X-WR-CALNAME:caldesm@caldesdemontbui.cat
X-WR-TIMEZONE:Europe/Madrid
DESCRIPTION:
URI:https://www.caldesdemontbui.cat/actualitat/agenda/festa-de-barri-dels-saulons.html
CLASS:PUBLIC
END:VEVENT
END:VCALENDAR
