BEGIN:VCALENDAR
VERSION:2.0
CALSCALE:GREGORIAN
PRODID:-//Diputació de Barcelona//DibaCMS//EN
BEGIN:VEVENT
UID:26763
DTSTAMP:20260421T173353
DTSTART:20240831T090000
DTEND:20240901T230000
SUMMARY:Torneig 4×4 Patins de Foc
LOCATION:Passatge Torre Roja, s/n 08140 Caldes de Montbui
METHOD:PUBLISH
X-WR-CALNAME:caldesm@caldesdemontbui.cat
X-WR-TIMEZONE:Europe/Madrid
DESCRIPTION:
URI:https://www.caldesdemontbui.cat/actualitat/agenda/torneig-44-patins-de-foc.html
CLASS:PUBLIC
END:VEVENT
END:VCALENDAR
