BEGIN:VCALENDAR
VERSION:2.0
CALSCALE:GREGORIAN
PRODID:-//Diputació de Barcelona//DibaCMS//EN
BEGIN:VEVENT
UID:26762
DTSTAMP:20260421T125021
DTSTART:20240803T100000
DTEND:20240803T100000
SUMMARY:Una aventura familiar al cor del patrimoni local de Caldes de Montbui
LOCATION:Plaça de la Font del Lleó, 20 08140 Caldes de Montbui
METHOD:PUBLISH
X-WR-CALNAME:caldesm@caldesdemontbui.cat
X-WR-TIMEZONE:Europe/Madrid
DESCRIPTION:
URI:https://www.caldesdemontbui.cat/actualitat/agenda/26762-una-aventura-familiar-al-cor-del-patrimoni-local-de-caldes-de-montbui.html
CLASS:PUBLIC
END:VEVENT
END:VCALENDAR
