BEGIN:VCALENDAR
VERSION:2.0
CALSCALE:GREGORIAN
PRODID:-//Diputació de Barcelona//DibaCMS//EN
BEGIN:VEVENT
UID:26754
DTSTAMP:20260423T080133
DTSTART:20240811T110000
DTEND:20240811T110000
SUMMARY:Visita guiada al museu Delger
LOCATION:Carrer del Forn, 8bis 08140 Caldes de Montbui
METHOD:PUBLISH
X-WR-CALNAME:caldesm@caldesdemontbui.cat
X-WR-TIMEZONE:Europe/Madrid
DESCRIPTION:
URI:https://www.caldesdemontbui.cat/actualitat/agenda/26754-visita-guiada-al-museu-delger.html
CLASS:PUBLIC
END:VEVENT
END:VCALENDAR
