BEGIN:VCALENDAR
VERSION:2.0
CALSCALE:GREGORIAN
PRODID:-//Diputació de Barcelona//DibaCMS//EN
BEGIN:VEVENT
UID:26748
DTSTAMP:20260421T164810
DTSTART:20240813T190000
DTEND:20240813T190000
SUMMARY:MICROVISITES
LOCATION:Plaça de la Font del Lleó, 20 08140 Caldes de Montbui
METHOD:PUBLISH
X-WR-CALNAME:caldesm@caldesdemontbui.cat
X-WR-TIMEZONE:Europe/Madrid
DESCRIPTION:
URI:https://www.caldesdemontbui.cat/actualitat/agenda/26748-microvisites.html
CLASS:PUBLIC
END:VEVENT
END:VCALENDAR
