BEGIN:VCALENDAR
VERSION:2.0
CALSCALE:GREGORIAN
PRODID:-//Diputació de Barcelona//DibaCMS//EN
BEGIN:VEVENT
UID:26743
DTSTAMP:20260422T015815
DTSTART:20240716T173000
DTEND:20240716T173000
SUMMARY:Convocatòria de la Taula de Cooperació, Solidaritat, Pau i Drets Humans
LOCATION:C. Mestre Gregori Montserrat, 4 08140 Caldes de Montbui
METHOD:PUBLISH
X-WR-CALNAME:caldesm@caldesdemontbui.cat
X-WR-TIMEZONE:Europe/Madrid
DESCRIPTION:
URI:https://www.caldesdemontbui.cat/actualitat/agenda/26743-convocatoria-de-la-taula-de-cooperacio-solidaritat-pau-i-drets-humans.html
CLASS:PUBLIC
END:VEVENT
END:VCALENDAR
