BEGIN:VCALENDAR
VERSION:2.0
CALSCALE:GREGORIAN
PRODID:-//Diputació de Barcelona//DibaCMS//EN
BEGIN:VEVENT
UID:26731
DTSTAMP:20260421T210822
DTSTART:20240704T193000
DTEND:20240704T193000
SUMMARY:Inauguració de l'exposició del col·lectiu d’artistes calderins “La Canaleta”
LOCATION:L'Altell del Centru 
METHOD:PUBLISH
X-WR-CALNAME:caldesm@caldesdemontbui.cat
X-WR-TIMEZONE:Europe/Madrid
DESCRIPTION:
URI:https://www.caldesdemontbui.cat/actualitat/agenda/inauguracio-de-lexposicio-del-collectiu-dartistes-calderins-la-canaleta.html
CLASS:PUBLIC
END:VEVENT
END:VCALENDAR
