BEGIN:VCALENDAR
VERSION:2.0
CALSCALE:GREGORIAN
PRODID:-//Diputació de Barcelona//DibaCMS//EN
BEGIN:VEVENT
UID:26726
DTSTAMP:20260422T002309
DTSTART:20240702T000000
DTEND:20240702T000000
SUMMARY:"Onades de Dones" 
LOCATION:
METHOD:PUBLISH
X-WR-CALNAME:caldesm@caldesdemontbui.cat
X-WR-TIMEZONE:Europe/Madrid
DESCRIPTION:Onades de Dones a càrrec de companyia La Xixa teatre. Dimarts 2/02 a les 10.30 a plaça Catalunya, Oberta al públic.

 

URI:https://www.caldesdemontbui.cat/actualitat/agenda/onades-de-dones-.html
CLASS:PUBLIC
END:VEVENT
END:VCALENDAR
