BEGIN:VCALENDAR
VERSION:2.0
CALSCALE:GREGORIAN
PRODID:-//Diputació de Barcelona//DibaCMS//EN
BEGIN:VEVENT
UID:26711
DTSTAMP:20260421T140558
DTSTART:20240727T090000
DTEND:20240728T233000
SUMMARY:Festa de Barri de Can Valls i Torre Negrell
LOCATION:Barri de Can Valls i Torre Negrell 
METHOD:PUBLISH
X-WR-CALNAME:caldesm@caldesdemontbui.cat
X-WR-TIMEZONE:Europe/Madrid
DESCRIPTION:
URI:https://www.caldesdemontbui.cat/actualitat/agenda/festa-de-barri-de-can-valls-i-torre-negrell.html
CLASS:PUBLIC
END:VEVENT
END:VCALENDAR
