BEGIN:VCALENDAR
VERSION:2.0
CALSCALE:GREGORIAN
PRODID:-//Diputació de Barcelona//DibaCMS//EN
BEGIN:VEVENT
UID:26710
DTSTAMP:20260421T140334
DTSTART:20240726T190000
DTEND:20240726T230000
SUMMARY:Cloenda d'estiu El Toc
LOCATION:C. de Font i Boet, 4 08140 Caldes de Montbui
METHOD:PUBLISH
X-WR-CALNAME:caldesm@caldesdemontbui.cat
X-WR-TIMEZONE:Europe/Madrid
DESCRIPTION:
URI:https://www.caldesdemontbui.cat/actualitat/agenda/cloenda-destiu-el-toc.html
CLASS:PUBLIC
END:VEVENT
END:VCALENDAR
