BEGIN:VCALENDAR
VERSION:2.0
CALSCALE:GREGORIAN
PRODID:-//Diputació de Barcelona//DibaCMS//EN
BEGIN:VEVENT
UID:26706
DTSTAMP:20260421T140408
DTSTART:20240723T183000
DTEND:20240723T233000
SUMMARY:El documental del mes: “Alis”
LOCATION:Santa Teresa, 3-5 08140 Caldes de Montbui
METHOD:PUBLISH
X-WR-CALNAME:caldesm@caldesdemontbui.cat
X-WR-TIMEZONE:Europe/Madrid
DESCRIPTION:
URI:https://www.caldesdemontbui.cat/actualitat/agenda/el-documental-del-mes-alis.html
CLASS:PUBLIC
END:VEVENT
END:VCALENDAR
