BEGIN:VCALENDAR
VERSION:2.0
CALSCALE:GREGORIAN
PRODID:-//Diputació de Barcelona//DibaCMS//EN
BEGIN:VEVENT
UID:26705
DTSTAMP:20260421T140529
DTSTART:20240722T163000
DTEND:20240722T233000
SUMMARY:El Toc a la piscina
LOCATION:C. de Font i Boet, 4 08140 Caldes de Montbui
METHOD:PUBLISH
X-WR-CALNAME:caldesm@caldesdemontbui.cat
X-WR-TIMEZONE:Europe/Madrid
DESCRIPTION:
URI:https://www.caldesdemontbui.cat/actualitat/agenda/el-toc-a-la-piscina.html
CLASS:PUBLIC
END:VEVENT
END:VCALENDAR
