BEGIN:VCALENDAR
VERSION:2.0
CALSCALE:GREGORIAN
PRODID:-//Diputació de Barcelona//DibaCMS//EN
BEGIN:VEVENT
UID:26704
DTSTAMP:20260421T220819
DTSTART:20240721T110000
DTEND:20240721T233000
SUMMARY:Visita guiada al museu Delger
LOCATION:Carrer del Forn, 8bis 08140 Caldes de Montbui
METHOD:PUBLISH
X-WR-CALNAME:caldesm@caldesdemontbui.cat
X-WR-TIMEZONE:Europe/Madrid
DESCRIPTION:
URI:https://www.caldesdemontbui.cat/actualitat/agenda/26704-visita-guiada-al-museu-delger.html
CLASS:PUBLIC
END:VEVENT
END:VCALENDAR
