BEGIN:VCALENDAR
VERSION:2.0
CALSCALE:GREGORIAN
PRODID:-//Diputació de Barcelona//DibaCMS//EN
BEGIN:VEVENT
UID:26703
DTSTAMP:20260421T192512
DTSTART:20240721T100000
DTEND:20240721T230000
SUMMARY:Fira d’antiquaris i brocanters
LOCATION:Av. Pi i Maragall 
METHOD:PUBLISH
X-WR-CALNAME:caldesm@caldesdemontbui.cat
X-WR-TIMEZONE:Europe/Madrid
DESCRIPTION:
URI:https://www.caldesdemontbui.cat/actualitat/agenda/26703-fira-dantiquaris-i-brocanters.html
CLASS:PUBLIC
END:VEVENT
END:VCALENDAR
