BEGIN:VCALENDAR
VERSION:2.0
CALSCALE:GREGORIAN
PRODID:-//Diputació de Barcelona//DibaCMS//EN
BEGIN:VEVENT
UID:26701
DTSTAMP:20260422T020202
DTSTART:20240720T210000
DTEND:20240720T233000
SUMMARY:FLOW, música vocal a la fresca d’estiu
LOCATION:Sala Noble Can Rius 
METHOD:PUBLISH
X-WR-CALNAME:caldesm@caldesdemontbui.cat
X-WR-TIMEZONE:Europe/Madrid
DESCRIPTION:
URI:https://www.caldesdemontbui.cat/actualitat/agenda/flow-musica-vocal-a-la-fresca-destiu.html
CLASS:PUBLIC
END:VEVENT
END:VCALENDAR
