BEGIN:VCALENDAR
VERSION:2.0
CALSCALE:GREGORIAN
PRODID:-//Diputació de Barcelona//DibaCMS//EN
BEGIN:VEVENT
UID:26700
DTSTAMP:20260421T172528
DTSTART:20240720T090000
DTEND:20240721T233000
SUMMARY:Festa de Barri del Bugarai
LOCATION:Parc del Bugarai 
METHOD:PUBLISH
X-WR-CALNAME:caldesm@caldesdemontbui.cat
X-WR-TIMEZONE:Europe/Madrid
DESCRIPTION:
URI:https://www.caldesdemontbui.cat/actualitat/agenda/festa-de-barri-del-bugarai.html
CLASS:PUBLIC
END:VEVENT
END:VCALENDAR
