BEGIN:VCALENDAR
VERSION:2.0
CALSCALE:GREGORIAN
PRODID:-//Diputació de Barcelona//DibaCMS//EN
BEGIN:VEVENT
UID:26699
DTSTAMP:20260422T102645
DTSTART:20240719T200000
DTEND:20240720T235900
SUMMARY:Festa de Barri del Centre Històric
LOCATION:Barri del Casc Antic 
METHOD:PUBLISH
X-WR-CALNAME:caldesm@caldesdemontbui.cat
X-WR-TIMEZONE:Europe/Madrid
DESCRIPTION:
URI:https://www.caldesdemontbui.cat/actualitat/agenda/26699-festa-de-barri-del-centre-historic.html
CLASS:PUBLIC
END:VEVENT
END:VCALENDAR
